ArcGIS Services Directory
Home
>
IMAGEM
>
IJSN_MOSAICO_RMGV_1978 (MapServer)
Help
|
API Reference
IMAGEM/IJSN_MOSAICO_RMGV_1978 (MapServer)
View In:
ArcMap
ArcGIS Explorer
ArcGIS JavaScript
Google Earth
View Footprint In:
Google Earth
Service Description:
Map Name:
Layers
Layers:
IJSN - MOSAICO RMGV 1978
(0)
Description:
Copyright Text:
Spatial Reference:
32724
Single Fused Map Cache:
true
Tile Info:
Height:
512
Width:
512
DPI:
96
Levels of Detail:
(# Levels: 9)
Level ID:
0 [
Start Tile
,
End Tile
]
Resolution: 132,291931250529
Scale: 500000
Level ID:
1 [
Start Tile
,
End Tile
]
Resolution: 66,1459656252646
Scale: 250000
Level ID:
2 [
Start Tile
,
End Tile
]
Resolution: 33,0729828126323
Scale: 125000
Level ID:
3 [
Start Tile
,
End Tile
]
Resolution: 13,2291931250529
Scale: 50000
Level ID:
4 [
Start Tile
,
End Tile
]
Resolution: 5,29167725002117
Scale: 20000
Level ID:
5 [
Start Tile
,
End Tile
]
Resolution: 2,64583862501058
Scale: 10000
Level ID:
6 [
Start Tile
,
End Tile
]
Resolution: 1,32291931250529
Scale: 5000
Level ID:
7 [
Start Tile
,
End Tile
]
Resolution: 0,661459656252646
Scale: 2500
Level ID:
8 [
Start Tile
,
End Tile
]
Resolution: 0,264583862501058
Scale: 1000
Format:
PNG32
Compression Quality:
0
Origin:
X: -5120900
Y: 19998100
Spatial Reference:
32724
Intial Extent:
XMin: 348907,238675065
YMin: 7724031,10403773
XMax: 380591,638675065
YMax: 7788532,90403773
Spatial Reference: 32724
Full Extent:
XMin: 348907,238675065
YMin: 7724031,10403773
XMax: 380591,638675065
YMax: 7788532,90403773
Spatial Reference: 32724
Units:
esriMeters
Document Info:
Title:
IJSN_MOSAICO_RMGV_1978
Author:
giuliano.grigolin
Comments:
Subject:
Category:
Keywords:
Supported Interfaces:
REST
SOAP
WMS
Supported Operations:
Export Map
Identify
Find