ArcGIS Services Directory
Home
>
IMAGEM
>
MOSAICO_RMGV_MAPLAN_2006 (MapServer)
Help
|
API Reference
IMAGEM/MOSAICO_RMGV_MAPLAN_2006 (MapServer)
View In:
ArcMap
ArcGIS Explorer
ArcGIS JavaScript
Google Earth
View Footprint In:
Google Earth
Service Description:
Map Name:
Layers
Layers:
370780F.sid
(0)
370770F.sid
(1)
370760F.sid
(2)
370750F.sid
(3)
360790F.sid
(4)
360780F.sid
(5)
360770F.sid
(6)
360760F.sid
(7)
360750F.sid
(8)
360740F.sid
(9)
360730F.sid
(10)
350800F.sid
(11)
350790F.sid
(12)
350780F.sid
(13)
350770F.sid
(14)
350760F.sid
(15)
350750F.sid
(16)
350740F.sid
(17)
350730F.sid
(18)
350720F.sid
(19)
350710F.sid
(20)
340800F.sid
(21)
340790F.sid
(22)
340780F.sid
(23)
340770F.sid
(24)
340760F.sid
(25)
340750F.sid
(26)
340740F.sid
(27)
340730F.sid
(28)
340720F.sid
(29)
340710F.sid
(30)
340700F.sid
(31)
330760F.sid
(32)
330750F.sid
(33)
330740F.sid
(34)
330730F.sid
(35)
330720F.sid
(36)
330710F.sid
(37)
330700F.sid
(38)
320730F.sid
(39)
320720f.sid
(40)
320710F.sid
(41)
Description:
Copyright Text:
Spatial Reference:
31984
Single Fused Map Cache:
true
Tile Info:
Height:
512
Width:
512
DPI:
96
Levels of Detail:
(# Levels: 10)
Level ID:
0 [
Start Tile
,
End Tile
]
Resolution: 132,291931250529
Scale: 500000
Level ID:
1 [
Start Tile
,
End Tile
]
Resolution: 66,1459656252646
Scale: 250000
Level ID:
2 [
Start Tile
,
End Tile
]
Resolution: 33,0729828126323
Scale: 125000
Level ID:
3 [
Start Tile
,
End Tile
]
Resolution: 13,2291931250529
Scale: 50000
Level ID:
4 [
Start Tile
,
End Tile
]
Resolution: 5,29167725002117
Scale: 20000
Level ID:
5 [
Start Tile
,
End Tile
]
Resolution: 2,64583862501058
Scale: 10000
Level ID:
6 [
Start Tile
,
End Tile
]
Resolution: 1,32291931250529
Scale: 5000
Level ID:
7 [
Start Tile
,
End Tile
]
Resolution: 0,661459656252646
Scale: 2500
Level ID:
8 [
Start Tile
,
End Tile
]
Resolution: 0,264583862501058
Scale: 1000
Level ID:
9 [
Start Tile
,
End Tile
]
Resolution: 0,132291931250529
Scale: 500
Format:
JPEG
Compression Quality:
75
Origin:
X: -5120900
Y: 19998100
Spatial Reference:
31984
Intial Extent:
XMin: 318672,25455
YMin: 7694515,5675
XMax: 383088,35245
YMax: 7809737,5425
Spatial Reference: 31984
Full Extent:
XMin: 318672,254549986
YMin: 7694515,5675
XMax: 383088,352450001
YMax: 7809737,5425
Spatial Reference: 31984
Units:
esriMeters
Document Info:
Title:
MOSAICO_RMGV_MAPLAN_2006
Author:
giuliano.grigolin
Comments:
Subject:
Category:
Keywords:
Supported Interfaces:
REST
SOAP
WMS
Supported Operations:
Export Map
Identify
Find