ArcGIS Services Directory
Home
>
IMAGEM
>
UCG_FOTOINDICE_IMGS_ES_IEMA_2007_2008_CACHEADO (MapServer)
Help
|
API Reference
IMAGEM/UCG_FOTOINDICE_IMGS_ES_IEMA_2007_2008_CACHEADO (MapServer)
View In:
ArcMap
ArcGIS Explorer
ArcGIS JavaScript
Google Earth
View Footprint In:
Google Earth
Service Description:
Map Name:
Layers
Layers:
BLOCO_05.tif
(0)
BLOCO_06.tif
(1)
BLOCO_04.tif
(2)
BLOCO_03.tif
(3)
BLOCO_02.tif
(4)
BLOCO_01.tif
(5)
Description:
Copyright Text:
Spatial Reference:
31984
Single Fused Map Cache:
true
Tile Info:
Height:
512
Width:
512
DPI:
96
Levels of Detail:
(# Levels: 7)
Level ID:
0 [
Start Tile
,
End Tile
]
Resolution: 661,459656252646
Scale: 2500000
Level ID:
1 [
Start Tile
,
End Tile
]
Resolution: 264,583862501058
Scale: 1000000
Level ID:
2 [
Start Tile
,
End Tile
]
Resolution: 132,291931250529
Scale: 500000
Level ID:
3 [
Start Tile
,
End Tile
]
Resolution: 66,1459656252646
Scale: 250000
Level ID:
4 [
Start Tile
,
End Tile
]
Resolution: 33,0729828126323
Scale: 125000
Level ID:
5 [
Start Tile
,
End Tile
]
Resolution: 13,2291931250529
Scale: 50000
Level ID:
6 [
Start Tile
,
End Tile
]
Resolution: 5,29167725002117
Scale: 20000
Format:
PNG32
Compression Quality:
0
Origin:
X: -5120900
Y: 19998100
Spatial Reference:
31984
Intial Extent:
XMin: 28978,3458319895
YMin: 7554361,54454486
XMax: 610401,383678065
YMax: 8136446,04204719
Spatial Reference: 31984
Full Extent:
XMin: 177125,454875619
YMin: 7612382,98264719
XMax: 462254,274634436
YMax: 8078424,60394485
Spatial Reference: 31984
Units:
esriMeters
Document Info:
Title:
FOTOINDICE_IMG_2007_2008
Author:
giuliano.grigolin
Comments:
Subject:
Category:
Keywords:
Supported Interfaces:
REST
SOAP
WMS
Supported Operations:
Export Map
Identify
Find