View In:
ArcMap
ArcGIS Explorer
ArcGIS JavaScript
Google Earth
View Footprint In:
Google Earth
Service Description: OROTOFOS MOSAICADOS DE VITORIA EM MRSID
Map Name: Layers
Layers:
Description:
Copyright Text:
Spatial Reference: 31984
Single Fused Map Cache: true
Tile Info:
- Height: 256
- Width: 256
- DPI: 96
- Levels of Detail: (# Levels: 8)
-
Level ID: 0
[Start Tile,
End Tile]
Resolution: 13,2291931250529
Scale: 50000
-
Level ID: 1
[Start Tile,
End Tile]
Resolution: 5,29167725002117
Scale: 20000
-
Level ID: 2
[Start Tile,
End Tile]
Resolution: 2,64583862501058
Scale: 10000
-
Level ID: 3
[Start Tile,
End Tile]
Resolution: 1,32291931250529
Scale: 5000
-
Level ID: 4
[Start Tile,
End Tile]
Resolution: 0,661459656252646
Scale: 2500
-
Level ID: 5
[Start Tile,
End Tile]
Resolution: 0,330729828126323
Scale: 1250
-
Level ID: 6
[Start Tile,
End Tile]
Resolution: 0,132291931250529
Scale: 500
-
Level ID: 7
[Start Tile,
End Tile]
Resolution: 0,0661459656252646
Scale: 250
- Format: JPEG
- Compression Quality: 75
-
Origin:
- Spatial Reference: 31984
Intial Extent:
XMin: 356688,5
YMin: 7750965,533
XMax: 374122,4
YMax: 7762221,063
Spatial Reference: 31984
Full Extent:
XMin: 356688,5
YMin: 7750965,533
XMax: 374122,4
YMax: 7762221,063
Spatial Reference: 31984
Units: esriMeters
Document Info:
- Title: VIX_FOTO
- Author: hideko
- Comments:
- Subject:
- Category:
- Keywords:
Supported Interfaces:
REST
SOAP
Supported Operations:
Export Map
Identify
Find