ArcGIS Services Directory
Home
>
UCG_GEOBASES
>
UCG_DSG_TPG_250 (MapServer)
Help
|
API Reference
UCG_GEOBASES/UCG_DSG_TPG_250 (MapServer)
View In:
ArcMap
ArcGIS Explorer
ArcGIS JavaScript
Google Earth
View Footprint In:
Google Earth
Service Description:
Map Name:
Layers
Layers:
Limite_ES_buffer_31984_L
(0)
DSG_TOPO_250_31984.tif
(1)
Description:
Copyright Text:
Spatial Reference:
31984
Single Fused Map Cache:
true
Tile Info:
Height:
512
Width:
512
DPI:
96
Levels of Detail:
(# Levels: 11)
Level ID:
0 [
Start Tile
,
End Tile
]
Resolution: 661,459656252646
Scale: 2500000
Level ID:
1 [
Start Tile
,
End Tile
]
Resolution: 264,583862501058
Scale: 1000000
Level ID:
2 [
Start Tile
,
End Tile
]
Resolution: 132,291931250529
Scale: 500000
Level ID:
3 [
Start Tile
,
End Tile
]
Resolution: 66,1459656252646
Scale: 250000
Level ID:
4 [
Start Tile
,
End Tile
]
Resolution: 33,0729828126323
Scale: 125000
Level ID:
5 [
Start Tile
,
End Tile
]
Resolution: 13,2291931250529
Scale: 50000
Level ID:
6 [
Start Tile
,
End Tile
]
Resolution: 5,29167725002117
Scale: 20000
Level ID:
7 [
Start Tile
,
End Tile
]
Resolution: 2,64583862501058
Scale: 10000
Level ID:
8 [
Start Tile
,
End Tile
]
Resolution: 1,32291931250529
Scale: 5000
Level ID:
9 [
Start Tile
,
End Tile
]
Resolution: 0,661459656252646
Scale: 2500
Level ID:
10 [
Start Tile
,
End Tile
]
Resolution: 0,264583862501058
Scale: 1000
Format:
JPEG
Compression Quality:
75
Origin:
X: -5120900
Y: 19998100
Spatial Reference:
31984
Intial Extent:
XMin: 177116,260460303
YMin: 7616036,96053527
XMax: 448654,809153898
YMax: 8046706,87330111
Spatial Reference: 31984
Full Extent:
XMin: 177116,260460303
YMin: 7616036,96053527
XMax: 448654,809153898
YMax: 8046706,87330111
Spatial Reference: 31984
Units:
esriMeters
Document Info:
Title:
UCG_DSG_TPG_250
Author:
giuliano.grigolin
Comments:
Subject:
Category:
Keywords:
Supported Interfaces:
REST
SOAP
WMS
Supported Operations:
Export Map
Identify
Find
Generate KML