ArcGIS Services Directory
Home
>
Vetor_Aerolevantamento (MapServer)
Help
|
API Reference
Vetor_Aerolevantamento (MapServer)
View In:
ArcMap
ArcGIS Explorer
ArcGIS JavaScript
Google Earth
View Footprint In:
Google Earth
Service Description:
Map Name:
Layers
Layers:
TRECHO DE DRENAGEM
(0)
LIMITES MUNICIPAIS
(1)
IJSN - IBGE -LOCALIDADES
(2)
UCs_ES
(3)
INCRA - QUILOMBOLAS
(4)
TERRAS INDÍGENAS
(5)
ESTRADAS VICINAIS
(6)
DNIT - FERROVIAS - 2017
(7)
RODOVIAS ESTADUAIS 2016
(8)
RODOVIAS FEDERAIS 2017
(9)
Description:
Copyright Text:
Spatial Reference:
31984
Single Fused Map Cache:
true
Tile Info:
Height:
512
Width:
512
DPI:
96
Levels of Detail:
(# Levels: 11)
Level ID:
0 [
Start Tile
,
End Tile
]
Resolution: 661,459656252646
Scale: 2500000
Level ID:
1 [
Start Tile
,
End Tile
]
Resolution: 264,583862501058
Scale: 1000000
Level ID:
2 [
Start Tile
,
End Tile
]
Resolution: 132,291931250529
Scale: 500000
Level ID:
3 [
Start Tile
,
End Tile
]
Resolution: 66,1459656252646
Scale: 250000
Level ID:
4 [
Start Tile
,
End Tile
]
Resolution: 33,0729828126323
Scale: 125000
Level ID:
5 [
Start Tile
,
End Tile
]
Resolution: 13,2291931250529
Scale: 50000
Level ID:
6 [
Start Tile
,
End Tile
]
Resolution: 5,29167725002117
Scale: 20000
Level ID:
7 [
Start Tile
,
End Tile
]
Resolution: 2,64583862501058
Scale: 10000
Level ID:
8 [
Start Tile
,
End Tile
]
Resolution: 1,32291931250529
Scale: 5000
Level ID:
9 [
Start Tile
,
End Tile
]
Resolution: 0,661459656252646
Scale: 2500
Level ID:
10 [
Start Tile
,
End Tile
]
Resolution: 0,330729828126323
Scale: 1250
Format:
PNG8
Compression Quality:
0
Origin:
X: -5120900
Y: 19998100
Spatial Reference:
31984
Intial Extent:
XMin: 150883,825155549
YMin: 7623772,85318898
XMax: 479074,100828703
YMax: 8039950,79326772
Spatial Reference: 31984
Full Extent:
XMin: 188614,440179016
YMin: 7624089,382215
XMax: 441315,568839095
YMax: 8039935,720485
Spatial Reference: 31984
Units:
esriMeters
Document Info:
Title:
MXD ESTADUAL
Author:
Karla
Comments:
Subject:
Category:
Keywords:
Supported Interfaces:
REST
SOAP
WMS
Supported Operations:
Export Map
Identify
Find
Generate KML